Workbook

Sheet Inputs_Calcs
A1: Weapon Speed Calculator | J1: CFD Inputs
A2: Parameter | B2: Value | C2: Units | D2: Notes / Source | J2: Angular Velocity [rpm] | K2: Torque needed (bc of Drag) [Nm] | L2: Notes
A3: A) Weapon Assem Geometry | J3: A) Angular Drisk
A4: Weapon Assem Moment of Inertia | B4: =0.0091865073 -> 0.0091865073 | C4: kg*m^2 | D4: From CAD... Inertia of Pulley and Weapon Assembly | J4: 0 | K4: 0 | L4: Reality Check (Should be 0) | N4: Drag t-w Function for 2nd deg poly: | O4: {=INDEX(LINEST(K4:K19, J4:J19^2, FALSE), 1)} -> 9.7170547e-09
A5: Radius to Tip | B5: 0.1 | C5: m | D5: From CAD... used for Tip Speed Calc | J5: 8000 | K5: 0.61176 | L5: ***All Torques are absolute of them... they all oppose the motor torque
A6: B) Electrical / motor | J6: 8500 | K6: 0.70524
A7: Battery Max Voltage | B7: 50.4 | C7: V | D7: For 12s (4.2V per cell) | J7: 9000 | K7: 0.7893
A8: Battery Nominal Voltage | B8: 44.4 | C8: V | D8: For 2 batteries in series (3.7V per cell) | J8: 9500 | K8: 0.87815
A9: Motor Kv | B9: 950 | C9: RPM/V | D9: Motor Property | J9: 10000 | K9: 0.97709
A10: Motor Kt | B10: =60/(2*PI()*B9) -> 0.010051891 | C10: N·m/A | D10: Kt = 60/(2πKv) | J10: 10500 | K10: 1.0712
A11: No Load Current | B11: 5.1 | C11: A | J11: 11000 | K11: 1.1719
A12: Internal Resistance | B12: 0.0049 | C12: Ω | J12: 11500 | K12: 1.2867
A13: Max Amps | B13: 212 | C13: A | D13: Limited by Motor | J13: 12000 | K13: 1.402
J14: 12500 | K14: 1.5206
J15: 13000 | K15: 1.6518
J16: 13500 | K16: 1.7811
A17: C) Reductions | J17: 14000 | K17: 1.9025
A18: Reduction | B18: 4 | D18: 4:1 Reduction from Pulley | J18: 14500 | K18: 2.0403
J19: 15000 | K19: 2.1712
A22: D) Motor Derivations
A23: Motor no-load Speed | B23: =B7*B9 -> 47880 | C23: rpm | D23: V * Kv
A24: Motor Stall-Torque | B24: =(B13 - B11) * B10 -> 2.0797363 | C24: Nm | D24: (I_max - I_noload) * Kt
A28: E) The point of this sheet :) [Weapon Derivations]
A29: Weapon no-load Speed | B29: =B23/B18 -> 11970 | C29: rpm | D29: Motor no-load Speed / Reduction
A30: Weapon Stall-Torque | B30: =B24 * B18 -> 8.3189451 | C30: Nm | D30: Motor Stall-Torque * Reduction
A31: Weapon t-w Slope | B31: =B30/B29 -> 0.00069498288 | C31: Nm/RPM | D31: Slope for t-w Curve (t_motor = Weapon stall torque - (Slope * current RPM)

Sheet Constants
A1: Constants / Unit Conversions
A2: Name | B2: Value | C2: Units
A3: g (standard gravity) | B3: 9.80665 | C3: m/s^2
A4: g (gravity) | B4: 32.174 | C4: ft/s^2
A5: inch_to_m | B5: 0.0254 | C5: m/in
A6: cm_to_m | B6: 0.01 | C6: m/cm
A7: mph_to_mps | B7: 0.44704 | C7: m/s per mph
A8: lbf_to_N | B8: 4.4482216 | C8: N per lbf
A9: N_to_lbf | B9: 0.22480894 | C9: lbf per N
A10: mps_to_mph | B10: 2.2369363 | C10: mph per m/s

Sheet Simulation
A1: Time-step simulation
A2: dt | B2: =B3/B4 -> 0.04 | C2: s | M2: * Net Torque = t_stall - (slope*w) - (kw^2)
A3: t_max | B3: 20 | C3: s | N3: k from polynomially fitting my drag torque, slope from stall and no load speed
A4: # iter | B4: 500 | C4: (Set Manually)
A5: i | B5: t (s) | C5: Weapon Angular Velocity (rad/s) | D5: v (m/s) [Tip] | E5: v (mph) [Tip] | F5: motorRPM | G5: weaponRPM | H5: Weapon Torque [Nm] | I5: ABSOLUTE VALUE Drag Torque [Nm] | J5: Net Torque [Nm] | K5: angular accel (rad/s)
A6: 0 | B6: 0 | C6: 0 | D6: =C6 * Inputs_Calcs!$B$5 -> 0 | E6: =D6 * Constants!$B$10 -> 0 | F6: 0 | G6: 0 | H6: =Inputs_Calcs!$B$30 - (Inputs_Calcs!$B$31 * G6) -> 8.3189451 | I6: =(Inputs_Calcs!$O$4 * (G6^2)) -> 0 | J6: =Inputs_Calcs!$B$30 -> 8.3189451 | K6: =J6 / Inputs_Calcs!$B$4 -> 905.56126
A7: =A6+1 -> 1 | B7: =B6 + $B$2 -> 0.04 | C7: =C6 + (K6 * $B$2) -> 36.22245 | D7: =C7 * Inputs_Calcs!$B$5 -> 3.622245 | E7: =D7 * Constants!$B$10 -> 8.1027314 | F7: =G7 * Inputs_Calcs!$B$18 -> 1383.5957 | G7: =(C7 * 60) / (2 * PI()) -> 345.89892 | H7: =Inputs_Calcs!$B$30 - (Inputs_Calcs!$B$31 * G7) -> 8.0785513 | I7: =(Inputs_Calcs!$O$4 * (G7^2)) -> 0.0011626074 | J7: =(Inputs_Calcs!$B$30 - (Inputs_Calcs!$B$31 * G7)) - (Inputs_Calcs!$O$4 * G7^2) -> 8.0773887 | K7: =J7 / Inputs_Calcs!$B$4 -> 879.26656 | M7: Var | P7: Value | Q7: Units
A8: =A7+1 -> 2 | B8: =B7 + $B$2 -> 0.08 | C8: =C7 + (K7 * $B$2) -> 71.393113 | D8: =C8 * Inputs_Calcs!$B$5 -> 7.1393113 | E8: =D8 * Constants!$B$10 -> 15.970184 | F8: =G8 * Inputs_Calcs!$B$18 -> 2727.016 | G8: =(C8 * 60) / (2 * PI()) -> 681.75401 | H8: =Inputs_Calcs!$B$30 - (Inputs_Calcs!$B$31 * G8) -> 7.8451377 | I8: =(Inputs_Calcs!$O$4 * (G8^2)) -> 0.0045163756 | J8: =(Inputs_Calcs!$B$30 - (Inputs_Calcs!$B$31 * G8)) - (Inputs_Calcs!$O$4 * G8^2) -> 7.8406214 | K8: =J8 / Inputs_Calcs!$B$4 -> 853.49318 | M8: Max Tip Speed | P8: =MAX(E:E) -> 244.66876 | Q8: mph
A9: =A8+1 -> 3 | B9: =B8 + $B$2 -> 0.12 | C9: =C8 + (K8 * $B$2) -> 105.53284 | D9: =C9 * Inputs_Calcs!$B$5 -> 10.553284 | E9: =D9 * Constants!$B$10 -> 23.607024 | F9: =G9 * Inputs_Calcs!$B$18 -> 4031.0576 | G9: =(C9 * 60) / (2 * PI()) -> 1007.7644 | H9: =Inputs_Calcs!$B$30 - (Inputs_Calcs!$B$31 * G9) -> 7.6185661 | I9: =(Inputs_Calcs!$O$4 * (G9^2)) -> 0.0098685345 | J9: =(Inputs_Calcs!$B$30 - (Inputs_Calcs!$B$31 * G9)) - (Inputs_Calcs!$O$4 * G9^2) -> 7.6086976 | K9: =J9 / Inputs_Calcs!$B$4 -> 828.24705 | M9: 90% Max Tip Speed | P9: =0.9 * P8 -> 220.20188 | Q9: mph
A10: =A9+1 -> 4 | B10: =B9 + $B$2 -> 0.16 | C10: =C9 + (K9 * $B$2) -> 138.66272 | D10: =C10 * Inputs_Calcs!$B$5 -> 13.866272 | E10: =D10 * Constants!$B$10 -> 31.017968 | F10: =G10 * Inputs_Calcs!$B$18 -> 5296.5258 | G10: =(C10 * 60) / (2 * PI()) -> 1324.1315 | H10: =Inputs_Calcs!$B$30 - (Inputs_Calcs!$B$31 * G10) -> 7.3986964 | I10: =(Inputs_Calcs!$O$4 * (G10^2)) -> 0.017037146 | J10: =(Inputs_Calcs!$B$30 - (Inputs_Calcs!$B$31 * G10)) - (Inputs_Calcs!$O$4 * G10^2) -> 7.3816593 | K10: =J10 / Inputs_Calcs!$B$4 -> 803.53273 | M10: Time to 90% Max Tip Speed | P10: {=XLOOKUP(P9, E:E, B:B, "Not Found", 1)} -> 2.56 | Q10: s
A11: =A10+1 -> 5 | B11: =B10 + $B$2 -> 0.2 | C11: =C10 + (K10 * $B$2) -> 170.80403 | D11: =C11 * Inputs_Calcs!$B$5 -> 17.080403 | E11: =D11 * Constants!$B$10 -> 38.207774 | F11: =G11 * Inputs_Calcs!$B$18 -> 6524.2334 | G11: =(C11 * 60) / (2 * PI()) -> 1631.0584 | H11: =Inputs_Calcs!$B$30 - (Inputs_Calcs!$B$31 * G11) -> 7.1853875 | I11: =(Inputs_Calcs!$O$4 * (G11^2)) -> 0.02585078 | J11: =(Inputs_Calcs!$B$30 - (Inputs_Calcs!$B$31 * G11)) - (Inputs_Calcs!$O$4 * G11^2) -> 7.1595367 | K11: =J11 / Inputs_Calcs!$B$4 -> 779.35351 | M11: Max Weapon RPM | P11: =MAX(G:G) -> 10444.708 | Q11: rpm
A12: =A11+1 -> 6 | B12: =B11 + $B$2 -> 0.24 | C12: =C11 + (K11 * $B$2) -> 201.97817 | D12: =C12 * Inputs_Calcs!$B$5 -> 20.197817 | E12: =D12 * Constants!$B$10 -> 45.18123 | F12: =G12 * Inputs_Calcs!$B$18 -> 7714.9979 | G12: =(C12 * 60) / (2 * PI()) -> 1928.7495 | H12: =Inputs_Calcs!$B$30 - (Inputs_Calcs!$B$31 * G12) -> 6.9784972 | I12: =(Inputs_Calcs!$O$4 * (G12^2)) -> 0.036148167 | J12: =(Inputs_Calcs!$B$30 - (Inputs_Calcs!$B$31 * G12)) - (Inputs_Calcs!$O$4 * G12^2) -> 6.9423491 | K12: =J12 / Inputs_Calcs!$B$4 -> 755.71149
A13: =A12+1 -> 7 | B13: =B12 + $B$2 -> 0.28 | C13: =C12 + (K12 * $B$2) -> 232.20663 | D13: =C13 * Inputs_Calcs!$B$5 -> 23.220663 | E13: =D13 * Constants!$B$10 -> 51.943144 | F13: =G13 * Inputs_Calcs!$B$18 -> 8869.64 | G13: =(C13 * 60) / (2 * PI()) -> 2217.41 | H13: =Inputs_Calcs!$B$30 - (Inputs_Calcs!$B$31 * G13) -> 6.7778831 | I13: =(Inputs_Calcs!$O$4 * (G13^2)) -> 0.047777855 | J13: =(Inputs_Calcs!$B$30 - (Inputs_Calcs!$B$31 * G13)) - (Inputs_Calcs!$O$4 * G13^2) -> 6.7301053 | K13: =J13 / Inputs_Calcs!$B$4 -> 732.60762
A14: =A13+1 -> 8 | B14: =B13 + $B$2 -> 0.32 | C14: =C13 + (K13 * $B$2) -> 261.51094 | D14: =C14 * Inputs_Calcs!$B$5 -> 26.151094 | E14: =D14 * Constants!$B$10 -> 58.49833 | F14: =G14 * Inputs_Calcs!$B$18 -> 9988.9819 | G14: =(C14 * 60) / (2 * PI()) -> 2497.2455 | H14: =Inputs_Calcs!$B$30 - (Inputs_Calcs!$B$31 * G14) -> 6.5834022 | I14: =(Inputs_Calcs!$O$4 * (G14^2)) -> 0.060597837 | J14: =(Inputs_Calcs!$B$30 - (Inputs_Calcs!$B$31 * G14)) - (Inputs_Calcs!$O$4 * G14^2) -> 6.5228044 | K14: =J14 / Inputs_Calcs!$B$4 -> 710.04182
A15: =A14+1 -> 9 | B15: =B14 + $B$2 -> 0.36 | C15: =C14 + (K14 * $B$2) -> 289.91261 | D15: =C15 * Inputs_Calcs!$B$5 -> 28.991261 | E15: =D15 * Constants!$B$10 -> 64.851604 | F15: =G15 * Inputs_Calcs!$B$18 -> 11073.846 | G15: =(C15 * 60) / (2 * PI()) -> 2768.4615 | H15: =Inputs_Calcs!$B$30 - (Inputs_Calcs!$B$31 * G15) -> 6.3949118 | I15: =(Inputs_Calcs!$O$4 * (G15^2)) -> 0.07447519 | J15: =(Inputs_Calcs!$B$30 - (Inputs_Calcs!$B$31 * G15)) - (Inputs_Calcs!$O$4 * G15^2) -> 6.3204366 | K15: =J15 / Inputs_Calcs!$B$4 -> 688.01301
A16: =A15+1 -> 10 | B16: =B15 + $B$2 -> 0.4 | C16: =C15 + (K15 * $B$2) -> 317.43313 | D16: =C16 * Inputs_Calcs!$B$5 -> 31.743313 | E16: =D16 * Constants!$B$10 -> 71.007769 | F16: =G16 * Inputs_Calcs!$B$18 -> 12125.052 | G16: =(C16 * 60) / (2 * PI()) -> 3031.2631 | H16: =Inputs_Calcs!$B$30 - (Inputs_Calcs!$B$31 * G16) -> 6.2122691 | I16: =(Inputs_Calcs!$O$4 * (G16^2)) -> 0.089285701 | J16: =(Inputs_Calcs!$B$30 - (Inputs_Calcs!$B$31 * G16)) - (Inputs_Calcs!$O$4 * G16^2) -> 6.1229834 | K16: =J16 / Inputs_Calcs!$B$4 -> 666.51919
A17: =A16+1 -> 11 | B17: =B16 + $B$2 -> 0.44 | C17: =C16 + (K16 * $B$2) -> 344.0939 | D17: =C17 * Inputs_Calcs!$B$5 -> 34.40939 | E17: =D17 * Constants!$B$10 -> 76.971613 | F17: =G17 * Inputs_Calcs!$B$18 -> 13143.419 | G17: =(C17 * 60) / (2 * PI()) -> 3285.8547 | H17: =Inputs_Calcs!$B$30 - (Inputs_Calcs!$B$31 * G17) -> 6.0353324 | I17: =(Inputs_Calcs!$O$4 * (G17^2)) -> 0.10491349 | J17: =(Inputs_Calcs!$B$30 - (Inputs_Calcs!$B$31 * G17)) - (Inputs_Calcs!$O$4 * G17^2) -> 5.9304189 | K17: =J17 / Inputs_Calcs!$B$4 -> 645.55752
A18: =A17+1 -> 12 | B18: =B17 + $B$2 -> 0.48 | C18: =C17 + (K17 * $B$2) -> 369.9162 | D18: =C18 * Inputs_Calcs!$B$5 -> 36.99162 | E18: =D18 * Constants!$B$10 -> 82.747897 | F18: =G18 * Inputs_Calcs!$B$18 -> 14129.758 | G18: =(C18 * 60) / (2 * PI()) -> 3532.4395 | H18: =Inputs_Calcs!$B$30 - (Inputs_Calcs!$B$31 * G18) -> 5.8639601 | I18: =(Inputs_Calcs!$O$4 * (G18^2)) -> 0.12125066 | J18: =(Inputs_Calcs!$B$30 - (Inputs_Calcs!$B$31 * G18)) - (Inputs_Calcs!$O$4 * G18^2) -> 5.7427095 | K18: =J18 / Inputs_Calcs!$B$4 -> 625.12436
A19: =A18+1 -> 13 | B19: =B18 + $B$2 -> 0.52 | C19: =C18 + (K18 * $B$2) -> 394.92117 | D19: =C19 * Inputs_Calcs!$B$5 -> 39.492117 | E19: =D19 * Constants!$B$10 -> 88.34135 | F19: =G19 * Inputs_Calcs!$B$18 -> 15084.878 | G19: =(C19 * 60) / (2 * PI()) -> 3771.2194 | H19: =Inputs_Calcs!$B$30 - (Inputs_Calcs!$B$31 * G19) -> 5.6980122 | I19: =(Inputs_Calcs!$O$4 * (G19^2)) -> 0.13819688 | J19: =(Inputs_Calcs!$B$30 - (Inputs_Calcs!$B$31 * G19)) - (Inputs_Calcs!$O$4 * G19^2) -> 5.5598153 | K19: =J19 / Inputs_Calcs!$B$4 -> 605.21536
A20: =A19+1 -> 14 | B20: =B19 + $B$2 -> 0.56 | C20: =C19 + (K19 * $B$2) -> 419.12979 | D20: =C20 * Inputs_Calcs!$B$5 -> 41.912979 | E20: =D20 * Constants!$B$10 -> 93.756663 | F20: =G20 * Inputs_Calcs!$B$18 -> 16009.579 | G20: =(C20 * 60) / (2 * PI()) -> 4002.3946 | H20: =Inputs_Calcs!$B$30 - (Inputs_Calcs!$B$31 * G20) -> 5.5373493 | I20: =(Inputs_Calcs!$O$4 * (G20^2)) -> 0.15565908 | J20: =(Inputs_Calcs!$B$30 - (Inputs_Calcs!$B$31 * G20)) - (Inputs_Calcs!$O$4 * G20^2) -> 5.3816903 | K20: =J20 / Inputs_Calcs!$B$4 -> 585.8255
A21: =A20+1 -> 15 | B21: =B20 + $B$2 -> 0.6 | C21: =C20 + (K20 * $B$2) -> 442.56281 | D21: =C21 * Inputs_Calcs!$B$5 -> 44.256281 | E21: =D21 * Constants!$B$10 -> 98.99848 | F21: =G21 * Inputs_Calcs!$B$18 -> 16904.654 | G21: =(C21 * 60) / (2 * PI()) -> 4226.1635 | H21: =Inputs_Calcs!$B$30 - (Inputs_Calcs!$B$31 * G21) -> 5.3818338 | I21: =(Inputs_Calcs!$O$4 * (G21^2)) -> 0.17355105 | J21: =(Inputs_Calcs!$B$30 - (Inputs_Calcs!$B$31 * G21)) - (Inputs_Calcs!$O$4 * G21^2) -> 5.2082828 | K21: =J21 / Inputs_Calcs!$B$4 -> 566.94918
A22: =A21+1 -> 16 | B22: =B21 + $B$2 -> 0.64 | C22: =C21 + (K21 * $B$2) -> 465.24077 | D22: =C22 * Inputs_Calcs!$B$5 -> 46.524077 | E22: =D22 * Constants!$B$10 -> 104.0714 | F22: =G22 * Inputs_Calcs!$B$18 -> 17770.889 | G22: =(C22 * 60) / (2 * PI()) -> 4442.7221 | H22: =Inputs_Calcs!$B$30 - (Inputs_Calcs!$B$31 * G22) -> 5.2313293 | I22: =(Inputs_Calcs!$O$4 * (G22^2)) -> 0.19179309 | J22: =(Inputs_Calcs!$B$30 - (Inputs_Calcs!$B$31 * G22)) - (Inputs_Calcs!$O$4 * G22^2) -> 5.0395362 | K22: =J22 / Inputs_Calcs!$B$4 -> 548.58022
A23: =A22+1 -> 17 | B23: =B22 + $B$2 -> 0.68 | C23: =C22 + (K22 * $B$2) -> 487.18398 | D23: =C23 * Inputs_Calcs!$B$5 -> 48.718398 | E23: =D23 * Constants!$B$10 -> 108.97995 | F23: =G23 * Inputs_Calcs!$B$18 -> 18609.057 | G23: =(C23 * 60) / (2 * PI()) -> 4652.2643 | H23: =Inputs_Calcs!$B$30 - (Inputs_Calcs!$B$31 * G23) -> 5.085701 | I23: =(Inputs_Calcs!$O$4 * (G23^2)) -> 0.21031169 | J23: =(Inputs_Calcs!$B$30 - (Inputs_Calcs!$B$31 * G23)) - (Inputs_Calcs!$O$4 * G23^2) -> 4.8753893 | K23: =J23 / Inputs_Calcs!$B$4 -> 530.71196
... A506: =A505+1 -> 500 | B506: =B505 + $B$2 -> 20 | C506: =C505 + (K505 * $B$2) -> 1093.7672 | D506: =C506 * Inputs_Calcs!$B$5 -> 109.37672 | E506: =D506 * Constants!$B$10 -> 244.66876 | F506: =G506 * Inputs_Calcs!$B$18 -> 41778.83 | G506: =(C506 * 60) / (2 * PI()) -> 10444.708 | H506: =Inputs_Calcs!$B$30 - (Inputs_Calcs!$B$31 * G506) -> 1.0600522 | I506: =(Inputs_Calcs!$O$4 * (G506^2)) -> 1.0600521 | J506: =(Inputs_Calcs!$B$30 - (Inputs_Calcs!$B$31 * G506)) - (Inputs_Calcs!$O$4 * G506^2) -> 5.7992322e-08 | K506: =J506 / Inputs_Calcs!$B$4 -> 6.3127715e-06
